BEGIN:VCALENDAR
VERSION:2.0
PRODID:-//Squarespace Inc/Squarespace 6//v6//EN
BEGIN:VEVENT
UID:575e6b2ec2ea51cd3b5cc1bb@squarespace.com
DTSTAMP:20160624T031808Z
DTSTART:20160630T043000Z
DTEND:20160630T090000Z
SUMMARY:Launch of "The Winedub"
GEO:-45.879046;170.506654
LOCATION:HARBOURSIDE GRILL\, 18 Fryatt Street\, Dunedin\, 18 Fryatt Street\
 , Dunedin\, Otago\, 9016\, New Zealand
END:VEVENT
END:VCALENDAR
