BEGIN:VCALENDAR
VERSION:2.0
PRODID:-//Squarespace Inc/Squarespace 6//v6//EN
BEGIN:VEVENT
UID:562ab9fee4b0d90ce8c2ee3a@squarespace.com
DTSTAMP:20151023T232020Z
DTSTART:20151028T040000Z
DTEND:20151029T090000Z
SUMMARY:Hawkshead “First Vines” Pinot Noir Vertical Tasting
END:VEVENT
END:VCALENDAR
