BEGIN:VCALENDAR
VERSION:2.0
PRODID:-//Squarespace Inc/Squarespace 6//v6//EN
BEGIN:VEVENT
UID:55e62e60e4b012b3f0518f49@squarespace.com
DTSTAMP:20151023T225012Z
DTSTART:20151024T040000Z
DTEND:20151024T093000Z
SUMMARY:Felton Road Block 5 Pinot Noir Vertical Tasting
END:VEVENT
END:VCALENDAR
