BEGIN:VCALENDAR
VERSION:2.0
PRODID:-//Squarespace Inc/Squarespace 6//v6//EN
BEGIN:VEVENT
UID:554d83cbe4b0fb1f929ffeeb@squarespace.com
DTSTAMP:20150525T023954Z
DTSTART:20150528T050000Z
DTEND:20150528T063000Z
SUMMARY:Clearview Estate Winery Tasting
GEO:-45.031599;168.660549
LOCATION:The Winery\, 14 Beach Street\, Queenstown\, New Zealand
END:VEVENT
END:VCALENDAR
